BEGIN:VCALENDAR
VERSION:2.0
PRODID:jobs.tsa.gov
BEGIN:VEVENT
UID:613c9e9ab519d
DTSTART:20210915T110000
SEQUENCE:0
TRANSP:OPAQUE
DTEND:20210915T150000
LOCATION:Crossgates Mall\, 1 Crossgates Mall Rd. Lower Level Court Area\, A
 lbany\, 12203
SUMMARY:Daily Gazette Job Fair
CLASS:PUBLIC
DTSTAMP:20210911T121834Z
END:VEVENT
END:VCALENDAR