BEGIN:VCALENDAR
VERSION:2.0
PRODID:jobs.tsa.gov
BEGIN:VEVENT
UID:613c9e96d2f8e
DTSTART:20210915T100000
SEQUENCE:0
TRANSP:OPAQUE
DTEND:20210916T140000
LOCATION:Missouri Job Center\, NW Crossings\, 715 NW Plaza Drive\, St. Ann\
 , 63074
SUMMARY:St. Louis TSO Recruiting Event
CLASS:PUBLIC
DTSTAMP:20210911T121830Z
END:VEVENT
END:VCALENDAR