BEGIN:VCALENDAR
VERSION:2.0
PRODID:jobs.tsa.gov
BEGIN:VEVENT
UID:613cc3af95ad8
DTSTART:20211025T130000
SEQUENCE:0
TRANSP:OPAQUE
DTEND:20211025T160000
LOCATION:Virtual Event
SUMMARY:Bowie State Career Fair
CLASS:PUBLIC
DTSTAMP:20210911T145647Z
END:VEVENT
END:VCALENDAR