BEGIN:VCALENDAR
VERSION:2.0
PRODID:jobs.tsa.gov
BEGIN:VEVENT
UID:613cc3a231e36
DTSTART:20211025T110000
SEQUENCE:0
TRANSP:OPAQUE
DTEND:20211027T174500
LOCATION:Virtual Event
SUMMARY:HACU Annual Conference
CLASS:PUBLIC
DTSTAMP:20210911T145634Z
END:VEVENT
END:VCALENDAR