BEGIN:VCALENDAR
VERSION:2.0
PRODID:jobs.tsa.gov
BEGIN:VEVENT
UID:608469aa7da9d
DTSTART:20210527T110000
SEQUENCE:0
TRANSP:OPAQUE
DTEND:20210527T150000
LOCATION:Virtual Event
SUMMARY:RecruitMilitary Career Fair
CLASS:PUBLIC
DTSTAMP:20210424T185538Z
END:VEVENT
END:VCALENDAR