BEGIN:VCALENDAR
VERSION:2.0
PRODID:jobs.tsa.gov
BEGIN:VEVENT
UID:608469b936ad0
DTSTART:20210617T110000
SEQUENCE:0
TRANSP:OPAQUE
DTEND:20210617T150000
LOCATION:Virtual Event
SUMMARY:RecruitMilitary Career Fair
CLASS:PUBLIC
DTSTAMP:20210424T185553Z
END:VEVENT
END:VCALENDAR