BEGIN:VCALENDAR
VERSION:2.0
PRODID:jobs.tsa.gov
BEGIN:VEVENT
UID:608469c6e1d0a
DTSTART:20210622T100000
SEQUENCE:0
TRANSP:OPAQUE
DTEND:20210622T170000
LOCATION:Virtual Event
SUMMARY:G3 Global Hiring Event
CLASS:PUBLIC
DTSTAMP:20210424T185606Z
END:VEVENT
END:VCALENDAR