BEGIN:VCALENDAR
VERSION:2.0
PRODID:jobs.tsa.gov
BEGIN:VEVENT
UID:608469d8a7f12
DTSTART:20210622T100000
SEQUENCE:0
TRANSP:OPAQUE
DTEND:20210622T160000
LOCATION:Virtual Event
SUMMARY:RecruitMilitary Career Fair
CLASS:PUBLIC
DTSTAMP:20210424T185624Z
END:VEVENT
END:VCALENDAR